BEGIN:VCALENDAR
VERSION:2.0
PRODID:-//ExpressionEngine Easy iCalendar plugin//NONSGML v2.0.0//EN
X-WR-TIMEZONE:America/Chicago
X-WR-CALNAME:Upcoming Auctions
BEGIN:VEVENT
UID:160677
DTSTAMP:20260420T120000
DTSTART:20260420T120000
DTEND:20260428T120000
SUMMARY:Retail Fixtures & Decor Liquidation
LOCATION:{location}
DESCRIPTION:RETAIL FIXTURES & DÉCOR LIQUIDATION Shelving. Display cases
 . Bar equipment. Store fixtures. If you need to stock\, build
 \, or upgrade a retail or bar space — this is the auction. 
 Hundreds of lots including racks\, counters\, signage\, and man
  cave inventory. Bid now. Online auction from April 21st -
  April 28th Cash out April 29th (Please have funds available
 ) Pick up on April 30th from 9 AM-12PM (THIS PICKUP TIME IS 
 EXCLSUIVE AND CAN NOT BE RESCHEDULED)  
URL:https://www.mredsauction.com/auctions/detail/bw160677
SEQUENCE:1
END:VEVENT
END:VCALENDAR