BEGIN:VCALENDAR
VERSION:2.0
PRODID:-//ExpressionEngine Easy iCalendar plugin//NONSGML v2.0.1//EN
X-WR-TIMEZONE:America/Chicago
X-WR-CALNAME:Upcoming Auctions
BEGIN:VEVENT
UID:159811
DTSTAMP:20260515T100000
DTSTART:20260515T100000
DTEND:20260515T110000
SUMMARY:Aviation Mechanic Estate Auction
LOCATION:TBD - Will Be Posted Prior To Auction\, Collinsville\, OK 7402
 1\, US
DESCRIPTION:Live Auction - Details Coming Soon
URL:https://www.mredsauction.com/auctions/detail/bw159811
SEQUENCE:1
END:VEVENT
END:VCALENDAR