BEGIN:VCALENDAR
VERSION:2.0
PRODID:-//ExpressionEngine Easy iCalendar plugin//NONSGML v2.0.0//EN
X-WR-TIMEZONE:America/Chicago
X-WR-CALNAME:Upcoming Auctions
BEGIN:VEVENT
UID:157472
DTSTAMP:20260223T170000
DTSTART:20260223T170000
DTEND:20260302T180000
SUMMARY:Furniture & More
LOCATION:5955 E 580 Rd\, Catoosa\, OK 74015\, US
DESCRIPTION:Online auction from 02/23/26 - 03/02/26 Cash out on 03/03 (P
 LEASE HAVE FUNDS AVAILABLE) Pick up on 03/04 from 9AM-12PM @
 Mr. Ed's Main Warehouse. (THIS PICK UP TIME IS EXLUSIVE AN
 D CAN NOT BE RESCHEDULED PLEASE PLAN ACCORDINGLY.)
URL:https://www.mredsauction.com/auctions/detail/bw157472
SEQUENCE:1
END:VEVENT
END:VCALENDAR