BEGIN:VCALENDAR
VERSION:2.0
PRODID:-//ExpressionEngine Easy iCalendar plugin//NONSGML v2.0.0//EN
X-WR-TIMEZONE:America/Chicago
X-WR-CALNAME:Upcoming Auctions
BEGIN:VEVENT
UID:157393
DTSTAMP:20260227T180000
DTSTART:20260227T180000
DTEND:20260309T180000
SUMMARY:Vintage Jewelry Auction
LOCATION:{location}
DESCRIPTION:Shipping available for out of state buyers! Large Collection
  of Vintage & Modern Jewelry including turquoise\, sterling\, 
 costume jewelry\, Rustic Cuff\, Vintage Purses/Coin Bags\, Broa
 ches & More.  Every piece is worth a look! Bidding ends 3/9
  beginning at 6pm CST.  Lots close one per minute.  Winnin
 g bids will be charged to the card you registered with on 3/
 10 and invoices will be emailed.  Please ensure that you ha
 ve funds available. Pick up is 3/11 from 9am until 12pm at M
 r. Ed's Auction Co. main warehouse.  This pick up time is e
 xclusive and cannot be rescheduled.  Please plan accordingl
 y.
URL:https://www.mredsauction.com/auctions/detail/bw157393
SEQUENCE:1
END:VEVENT
END:VCALENDAR