BEGIN:VCALENDAR
VERSION:2.0
PRODID:-//ExpressionEngine Easy iCalendar plugin//NONSGML v2.0.0//EN
X-WR-TIMEZONE:America/Chicago
X-WR-CALNAME:Upcoming Auctions
BEGIN:VEVENT
UID:156297
DTSTAMP:20260202T120000
DTSTART:20260202T120000
DTEND:20260209T180000
SUMMARY:Estate Auction - OKC
LOCATION:6212 SE 56th St. \, Oklahoma City \, OK 73135\, US
DESCRIPTION:This large estate auction features an extensive collection o
 f household goods\, furniture\, appliances\, collectibles\, and 
 specialty items with something for everyone—from homeowner
 s and resellers to collectors. Online auction from 02/02/202
 6 - 02/09/26 Cash out on 02/10/26 Pick up on 02/11/26 (Picku
 p is exclusive and extremely important due to it being in OK
 C.) 
URL:https://www.mredsauction.com/auctions/detail/bw156297
SEQUENCE:1
END:VEVENT
END:VCALENDAR