BEGIN:VCALENDAR
VERSION:2.0
PRODID:-//ExpressionEngine Easy iCalendar plugin//NONSGML v2.0.0//EN
X-WR-TIMEZONE:America/Chicago
X-WR-CALNAME:Upcoming Auctions
BEGIN:VEVENT
UID:155115
DTSTAMP:20260114T110000
DTSTART:20260114T110000
DTEND:20260126T180000
SUMMARY:Mid Century Modern\, Vintage\, & Custom Furniture
LOCATION:5955 E 580 RD\, Catoosa\, OK 74015\, US
DESCRIPTION:Online auction from 01/14/26 to 01/26/26 Cash out on 01/27 
 (please have funds available) Pickup will be @ Mr. Ed's main
  warehouse on 01/28 from 9AM-12PM (This pick up time is exc
 lusive and can not be rescheduled please plan accordingly.) 
 Online Estate Auction – Furniture\, Mid-Century Modern\, Too
 ls\, Electronics\, Décor & More This online auction features 
 a large and diverse collection of furniture\, home furnishing
 s\, tools\, electronics\, décor\, collectibles\, and household g
 oods. Highlights include an extensive selection of custom ha
 ndmade furniture\, such as mesquite and cedar live-edge bench
 es and bar stools (some with turquoise resin inlay)\, as well
  as mid-century modern pieces by notable makers including Mi
 lo Baughman\, George Nelson\, American of Martinsville\, and mo
 re.
URL:https://www.mredsauction.com/auctions/detail/bw155115
SEQUENCE:1
END:VEVENT
END:VCALENDAR