BEGIN:VCALENDAR
VERSION:2.0
PRODID:-//ExpressionEngine Easy iCalendar plugin//NONSGML v2.0.0//EN
X-WR-TIMEZONE:America/Chicago
X-WR-CALNAME:Upcoming Auctions
BEGIN:VEVENT
UID:155035
DTSTAMP:20260113T170000
DTSTART:20260113T170000
DTEND:20260126T180000
SUMMARY:Large Multi-Lot Estate Auction
LOCATION:5955 E 580 RD\, Catoosa\, OK 74015\, US
DESCRIPTION:This large estate auction features an incredible variety of 
 antiques\, vintage collectibles\, household goods\, furniture\, 
 tools\, décor\, and more. Whether you’re a collector\, resel
 ler\, decorator\, or bargain hunter\, this auction is packed wi
 th something for everyone. Online auction from 01/13/26 to 0
 1/26/26 Cash out will be on 01/27 (Please have funds ready) 
 Pick up will be on 01/28 from 9AM - 12 PM (This pickup time 
 is exclusive and can not be rescheduled please plan accordin
 gly.)
URL:https://www.mredsauction.com/auctions/detail/bw155035
SEQUENCE:1
END:VEVENT
END:VCALENDAR