BEGIN:VCALENDAR
VERSION:2.0
PRODID:-//ExpressionEngine Easy iCalendar plugin//NONSGML v2.0.0//EN
X-WR-TIMEZONE:America/Chicago
X-WR-CALNAME:Upcoming Auctions
BEGIN:VEVENT
UID:154920
DTSTAMP:20260112T160000
DTSTART:20260112T160000
DTEND:20260121T180000
SUMMARY:Sportsman Gear & Outdoor Accessories
LOCATION:5955 E 580 RD\, Catoosa\, OK 74015\, US
DESCRIPTION:This auction features a collection of firearms-related acces
 sories\, ammunition\, optics\, reloading supplies\, and outdoor 
 gear\, ideal for collectors\, sportsmen\, reloaders\, and shooti
 ng enthusiasts. Items range from vintage and antique gun par
 ts to modern tactical accessories and optics. Online only au
 ction from 01/12/25 to 01/21/25. Cash out on 01/22/25 and Pi
 ckup @ Mr. Ed's 01/23/25 from 9 AM-12PM. This pickup time i
 s exclusive and can not be rescheduled please plan according
 ly. 
URL:https://www.mredsauction.com/auctions/detail/bw154920
SEQUENCE:1
END:VEVENT
END:VCALENDAR