BEGIN:VCALENDAR
VERSION:2.0
PRODID:-//ExpressionEngine Easy iCalendar plugin//NONSGML v2.0.0//EN
X-WR-TIMEZONE:America/Chicago
X-WR-CALNAME:Upcoming Auctions
BEGIN:VEVENT
UID:154134
DTSTAMP:20251224T120000
DTSTART:20251224T120000
DTEND:20260106T180000
SUMMARY:Online Estate Auction (In Norman)
LOCATION:2303 Linfield CT \, Norman \, OK 73071 \, US
DESCRIPTION:Note: Online Auction from 12/24/25 - 01/06-26 Cash out on 01
 /07/26 (Please have funds available on card) Pickup on 01/08
 /26 from 9AM- 12PM This pickup time is exclusive and can not
  be rescheduled please plan accordingly. Large Estate & Hou
 sehold Online Auction – Furniture\, Appliances\, Electronics
 \, Tools & More This online auction features an extensive col
 lection of household goods\, furniture\, appliances\, electroni
 cs\, tools\, décor\, and recreational items. Items come from a
  well-kept estate and include everything from major applianc
 es and home furnishings to audio equipment\, fitness gear\, an
 d everyday household essentials.
URL:https://www.mredsauction.com/auctions/detail/bw154134
SEQUENCE:1
END:VEVENT
END:VCALENDAR