BEGIN:VCALENDAR
VERSION:2.0
PRODID:-//ExpressionEngine Easy iCalendar plugin//NONSGML v2.0.0//EN
X-WR-TIMEZONE:America/Chicago
X-WR-CALNAME:Upcoming Auctions
BEGIN:VEVENT
UID:154088
DTSTAMP:20251223T110000
DTSTART:20251223T110000
DTEND:20260105T180000
SUMMARY:Office Furniture Auction
LOCATION:5004 E Archer St. \, Tulsa\, OK 74115\, US
DESCRIPTION:Office Furniture & Equipment Online Auction This auction fea
 tures a large selection of office furniture\, seating\, and eq
 uipment\, ideal for businesses\, home offices\, and more. Items
  include desks\, chairs\, storage\, and office electronics in a
  variety of styles and finishes. Online auction from 12/23/2
 5-01/05/25 Cash out on 01/06/25 Pickup on 01/07/25 from 9AM-
 12PM This pickup time is exclusive and can not be reschedule
 d please plan accordingly. 
URL:https://www.mredsauction.com/auctions/detail/bw154088
SEQUENCE:1
END:VEVENT
END:VCALENDAR