BEGIN:VCALENDAR
VERSION:2.0
PRODID:-//ExpressionEngine Easy iCalendar plugin//NONSGML v2.0.0//EN
X-WR-TIMEZONE:America/Guatemala
X-WR-CALNAME:Upcoming Auctions
BEGIN:VEVENT
UID:154082
DTSTAMP:20260220T140000
DTSTART:20260220T140000
DTEND:20260220T150000
SUMMARY:Personal Representative's Auction in OKC
LOCATION:6212 SE 56th St\, Oklahoma City\, OK 73135\, US
DESCRIPTION:Personal Representative's Real Estate Auction
URL:https://www.mredsauction.com/auctions/detail/bw154082
SEQUENCE:1
END:VEVENT
END:VCALENDAR