BEGIN:VCALENDAR
VERSION:2.0
PRODID:-//ExpressionEngine Easy iCalendar plugin//NONSGML v2.0.0//EN
X-WR-TIMEZONE:America/Chicago
X-WR-CALNAME:Upcoming Auctions
BEGIN:VEVENT
UID:153453
DTSTAMP:20251210T090000
DTSTART:20251210T090000
DTEND:20251217T180000
SUMMARY:Commercial & Home Appliance Auction
LOCATION:5955 E 580 RD\, Catoosa\, OK 74015\, US
DESCRIPTION:Online auction from 12-10-25 to 12-17-25 Cash out will be on
  12-18-25 Pickup will be on 12-19-25 from 9 AM - 12 PM This 
 pickup time is exclusive and can not be rescheduled please b
 id accordingly.  APPLIANCE & COMMERCIAL EQUIPMENT AUCTION 
  Don’t miss this outstanding multi-unit auction featuring 
 a wide selection of refrigerators\, freezers\, washers\, dryers
 \, ice machines\, HVAC equipment\, and commercial appliances. W
 hether you’re a homeowner\, landlord\, reseller\, or business
  owner\, this sale offers something for every need and every 
 budget. 
URL:https://www.mredsauction.com/auctions/detail/bw153453
SEQUENCE:1
END:VEVENT
END:VCALENDAR