BEGIN:VCALENDAR
VERSION:2.0
PRODID:-//ExpressionEngine Easy iCalendar plugin//NONSGML v2.0.0//EN
X-WR-TIMEZONE:America/Chicago
X-WR-CALNAME:Upcoming Auctions
BEGIN:VEVENT
UID:153271
DTSTAMP:20251208T090000
DTSTART:20251208T090000
DTEND:20251215T180000
SUMMARY:Mixed Tool\, Lawn\, & Household Auction
LOCATION:1922 S Lynn Lane Rd E\, Tulsa\, OK 74108\, US
DESCRIPTION:This auction features a collection of shop tools\, lawn & gar
 den equipment\, power tools\, hardware\, home goods\, furniture\,
  and more. Online only auction from 12/08/25 - 12/15/25 Cash
  out for this auction will be on 12/16/25 Pickup will be on 
 12/17/2025 from 9AM-12PM in Tulsa\, OK. 
URL:https://www.mredsauction.com/auctions/detail/bw153271
SEQUENCE:1
END:VEVENT
END:VCALENDAR