BEGIN:VCALENDAR
VERSION:2.0
PRODID:-//ExpressionEngine Easy iCalendar plugin//NONSGML v2.0.0//EN
X-WR-TIMEZONE:America/Chicago
X-WR-CALNAME:Upcoming Auctions
BEGIN:VEVENT
UID:153066
DTSTAMP:20251202T120000
DTSTART:20251202T120000
DTEND:20251210T190000
SUMMARY:Christmas Pew Pew Auction
LOCATION:5955 E 580 Rd.\, Catoosa\, OK 74015\, US
DESCRIPTION:Step into our Christmas Pew Pew Auction featuring a wide var
 iety of firearms\, ammunition\, magazines\, and reloading suppl
 ies. This sale includes name-brand handguns and long guns su
 ch as Jennings\, ROHM\, Remington\, Mossberg\, Savage\, Interarms
 \, and more—along with hard-to-find specialty items and wel
 l-maintained pieces perfect for collectors\, sportsmen\, and h
 obby shooters alike. Stock up on bulk brass in popular calib
 ers like 9mm\, .223\, .30-06\, .308\, and .44\, plus assorted mag
 azines\, components\, and boxed ammunition. Whether you're exp
 anding your collection or gearing up for the range\, this auc
 tion offers quality finds for every type of bidder. Browse e
 arly\, bid confidently\, and take home something great this se
 ason!
URL:https://www.mredsauction.com/auctions/detail/bw153066
SEQUENCE:1
END:VEVENT
END:VCALENDAR