BEGIN:VCALENDAR
VERSION:2.0
PRODID:-//ExpressionEngine Easy iCalendar plugin//NONSGML v2.0.0//EN
X-WR-TIMEZONE:America/Chicago
X-WR-CALNAME:Upcoming Auctions
BEGIN:VEVENT
UID:152757
DTSTAMP:20251124T160000
DTSTART:20251124T160000
DTEND:20251130T120000
SUMMARY:Dolls\, Household\, & More
LOCATION:4534 E 6th Street\, Tulsa\, OK 74112\, US
DESCRIPTION:Online Estate Auction – Furniture • Décor • Collectib
 les • Dolls • Tools & More This online auction features 
 a wide variety of household goods\, collectible items\, furnit
 ure\, décor\, dolls\, tools\, and more. Whether you're a collec
 tor\, reseller\, or looking for great finds for your home\, thi
 s sale offers something for everyone. Browse through quality
  vintage pieces\, unique décor\, silver plate items\, doll col
 lections\, books\, and practical household essentials. Online 
 auction from 11/24/25 - 11/30/25 Cash out on 12/01/25 Pickup
  on 12/02/25 from 9 AM - 12 PM Pickup time is exclusive as t
 he Real Estate Auction will take place 2 days after\, leaving
  a short window for our team to clean the house. 
URL:https://www.mredsauction.com/auctions/detail/bw152757
SEQUENCE:1
END:VEVENT
END:VCALENDAR