BEGIN:VCALENDAR
VERSION:2.0
PRODID:-//ExpressionEngine Easy iCalendar plugin//NONSGML v2.0.0//EN
X-WR-TIMEZONE:America/Chicago
X-WR-CALNAME:Upcoming Auctions
BEGIN:VEVENT
UID:152586
DTSTAMP:20251230T100000
DTSTART:20251230T100000
DTEND:20251230T110000
SUMMARY:Personal Representative's Auction in Pocola
LOCATION:4600 W. George Ave\, Pocola\, OK 74902\, US
DESCRIPTION:Personal Representative's Auction - 3 Bed\, 1 Bath home with
  1\,152 sqft.  10 ± Acres with a pond and private location.
  
URL:https://www.mredsauction.com/auctions/detail/bw152586
SEQUENCE:1
END:VEVENT
END:VCALENDAR