BEGIN:VCALENDAR
VERSION:2.0
PRODID:-//ExpressionEngine Easy iCalendar plugin//NONSGML v2.0.0//EN
X-WR-TIMEZONE:America/Chicago
X-WR-CALNAME:Upcoming Auctions
BEGIN:VEVENT
UID:152507
DTSTAMP:20260115T110000
DTSTART:20260115T110000
DTEND:20260115T110000
SUMMARY:Multi Par Trustee's Real Estate Auction
LOCATION:1922 S Lynn Lane Rd E\, Tulsa\, OK 74108\, US
DESCRIPTION:Multi Par Trustee's Real Estate Auction on January 15th at 1
 1 am. This auction will be offered as a multi par featuring 
 several tracts with acreage\, a house\, multiple ponds\, and mo
 re. 
URL:https://www.mredsauction.com/auctions/detail/bw152507
SEQUENCE:1
END:VEVENT
END:VCALENDAR