BEGIN:VCALENDAR
VERSION:2.0
PRODID:-//ExpressionEngine Easy iCalendar plugin//NONSGML v2.0.1//EN
X-WR-TIMEZONE:America/Chicago
X-WR-CALNAME:Upcoming Auctions
BEGIN:VEVENT
UID:151835
DTSTAMP:20251217T100000
DTSTART:20251217T100000
DTEND:20251217T110000
SUMMARY:Real Estate Auction
LOCATION:7300 Block of North State Highway 64\, Haskell\, OK 74436\, US
DESCRIPTION:Real Estate Auction - Prime Investment Property on Highway 6
 4\, Haskell\, OK.  Don’t miss this unique investment opport
 unity! Up for auction is approximately 2 acres of land locat
 ed along Highway 64\, just north of Haskell\, Oklahoma.
URL:https://www.mredsauction.com/auctions/detail/bw151835
SEQUENCE:1
END:VEVENT
END:VCALENDAR