BEGIN:VCALENDAR
VERSION:2.0
PRODID:-//ExpressionEngine Easy iCalendar plugin//NONSGML v2.0.0//EN
X-WR-TIMEZONE:America/Chicago
X-WR-CALNAME:Upcoming Auctions
BEGIN:VEVENT
UID:151194
DTSTAMP:20251103T150000
DTSTART:20251103T150000
DTEND:20251110T190000
SUMMARY:The Ultimate Estate Auction
LOCATION:5955 E 580 RD \, Catoosa \, OK 74015 \, US
DESCRIPTION:Estate & Collectibles Online Auction Discover a lifetime col
 lection of antiques\, collectibles\, household treasures\, and 
 dÃ©cor in this exciting online estate auction! This extensiv
 e sale features hundreds of lots ranging from vintage toys a
 nd glassware to fine china\, furniture\, and holiday dÃ©cor â€
 ” something for every collector and every home. Online aucti
 on from 11/03/25 - 11/10/25 Cash out on 11/11/25 Pickup on 1
 1/12/25 from 9 A.M. to 12 P.M.Â  This pickup time is exclusi
 ve and can not be rescheduled please bid accordingly.
URL:https://www.mredsauction.com/auctions/detail/bw151194
SEQUENCE:1
END:VEVENT
END:VCALENDAR