BEGIN:VCALENDAR
VERSION:2.0
PRODID:-//ExpressionEngine Easy iCalendar plugin//NONSGML v2.0.0//EN
X-WR-TIMEZONE:America/Chicago
X-WR-CALNAME:Upcoming Auctions
BEGIN:VEVENT
UID:150766
DTSTAMP:20251022T120000
DTSTART:20251022T120000
DTEND:20251029T190000
SUMMARY:Mid Century Furniture & More
LOCATION:5955 E 580 RD \, Catoosa \, OK 74015 \, US
DESCRIPTION:Estate Auction – Mid-Century\, Antiques\, Home Décor & More
 ! Online Bidding Only | A Unique Opportunity to Bid on Quali
 ty Items This large-scale estate auction features a wide-ran
 ging collection of mid-century modern furniture\, vintage col
 lectibles\, antiques\, household décor\, and electronics. Whet
 her you're a collector\, designer\, reseller\, or simply lookin
 g for standout pieces\, this sale includes something for near
 ly every style and interest.
URL:https://www.mredsauction.com/auctions/detail/bw150766
SEQUENCE:1
END:VEVENT
END:VCALENDAR