BEGIN:VCALENDAR
VERSION:2.0
PRODID:-//ExpressionEngine Easy iCalendar plugin//NONSGML v2.0.0//EN
X-WR-TIMEZONE:America/Chicago
X-WR-CALNAME:Upcoming Auctions
BEGIN:VEVENT
UID:149618
DTSTAMP:20251115T100000
DTSTART:20251115T100000
DTEND:20251115T130000
SUMMARY:ONG Trucks and Equipment\, Boats\, & Estate Cars
LOCATION:5955 E 580 Rd.\, Catoosa\, OK 74015\, US
DESCRIPTION:Don’t miss this large selection of vehicles\, heavy equipme
 nt\, and specialty items selling at public auction. Saturday\,
  November 15th at 10 AM | Mr. Ed’s Auction\, Catoosa\, OK (L
 ive & Simulcast)
URL:https://www.mredsauction.com/auctions/detail/bw149618
SEQUENCE:1
END:VEVENT
END:VCALENDAR