BEGIN:VCALENDAR
VERSION:2.0
PRODID:-//ExpressionEngine Easy iCalendar plugin//NONSGML v2.0.0//EN
X-WR-TIMEZONE:America/Chicago
X-WR-CALNAME:Upcoming Auctions
BEGIN:VEVENT
UID:149092
DTSTAMP:20250925T160000
DTSTART:20250925T160000
DTEND:20251001T160000
SUMMARY:Industrial & Greenhouse Facility Auction
LOCATION:20012 E 6th St \, Tulsa\, OK 74108\, US
DESCRIPTION:Online auction from 09/25/25 - 10/01/25 Cash out on 10/02/25
  Pickup on 10/03/25 from 9 AM - 12 PM This pickup time is ex
 clusive please bid accordingly.   Online Auction – Surpl
 us Facility Equipment\, Grow Gear\, Tools\, HVAC & More! Don't 
 miss this diverse online auction featuring a wide range of q
 uality equipment and inventory from a closed facility. Wheth
 er you're in agriculture\, indoor cultivation\, construction\, 
 or HVAC. — there's something for everyone!
URL:https://www.mredsauction.com/auctions/detail/bw149092
SEQUENCE:1
END:VEVENT
END:VCALENDAR