BEGIN:VCALENDAR
VERSION:2.0
PRODID:-//ExpressionEngine Easy iCalendar plugin//NONSGML v2.0.0//EN
X-WR-TIMEZONE:America/Chicago
X-WR-CALNAME:Upcoming Auctions
BEGIN:VEVENT
UID:149067
DTSTAMP:20251204T110000
DTSTART:20251204T110000
DTEND:20251204T111500
SUMMARY:Guardian's Real Estate Auction (Tulsa)
LOCATION:4534 E 6th St.\, Tulsa\, OK 74112\, US
DESCRIPTION:Guardian's Real Estate Auction will be held on December 4th 
 at 11 am. This auction features a 2 Bed\, 1 bath home in Tuls
 a\, OK. 
URL:https://www.mredsauction.com/auctions/detail/bw149067
SEQUENCE:1
END:VEVENT
END:VCALENDAR