BEGIN:VCALENDAR
VERSION:2.0
PRODID:-//ExpressionEngine Easy iCalendar plugin//NONSGML v2.0.0//EN
X-WR-TIMEZONE:America/Chicago
X-WR-CALNAME:Upcoming Auctions
BEGIN:VEVENT
UID:147818
DTSTAMP:20250909T170000
DTSTART:20250909T170000
DTEND:20250916T170000
SUMMARY:Memory Lane Auction
LOCATION:5955 E 580 Rd.\, Catoosa\, OK 74015\, US
DESCRIPTION:MEGA ONLINE AUCTION: MUSIC • VINTAGE • ESTATE • AMERIC
 ANA • RARE FINDS Step into the ultimate treasure hunt — 
 a collector’s paradise packed with an eclectic mix of viny
 l records\, vintage décor\, estate pieces\, rare memorabilia\, 
 tools\, toys\, glassware\, furniture\, jewelry\, and more. Whethe
 r you’re a hardcore collector\, decorator\, flipper\, or nost
 algia lover\, this auction has something you didn’t even kn
 ow you needed. Online auction from 09-09-2025 - 09-16-2025 C
 ashout On 09-17-2025  Pickup On 09-18-2025 from 9AM to 12 P
 M  Pickup time is exclusive and can not be rescheduled plea
 se bid accordingly. 
URL:https://www.mredsauction.com/auctions/detail/bw147818
SEQUENCE:1
END:VEVENT
END:VCALENDAR