BEGIN:VCALENDAR
VERSION:2.0
PRODID:-//ExpressionEngine Easy iCalendar plugin//NONSGML v2.0.0//EN
X-WR-TIMEZONE:America/Chicago
X-WR-CALNAME:Upcoming Auctions
BEGIN:VEVENT
UID:147816
DTSTAMP:20250905T170000
DTSTART:20250905T170000
DTEND:20250922T160000
SUMMARY:Gold Standard Restaurant & Bar Liquidation
LOCATION:{location}
DESCRIPTION:Premium Commercial Equipment for Sale – Well-Maintained an
 d Ready for Use Elevate your business with this incredible s
 election of commercial kitchen and bar equipment\, all meticu
 lously maintained to ensure top-notch performance. Whether y
 ou're outfitting a restaurant\, bar\, or event space\, this col
 lection has everything you need to run your operation smooth
 ly and efficiently. Online auction from Sept. 5\, 2025 - Sept
 . 22\, 2025 Cash out on Sept. 23. Pickup on Sept. 24 from 9 A
 M - 12 PM 
URL:https://www.mredsauction.com/auctions/detail/bw147816
SEQUENCE:1
END:VEVENT
END:VCALENDAR