BEGIN:VCALENDAR
VERSION:2.0
PRODID:-//ExpressionEngine Easy iCalendar plugin//NONSGML v2.0.0//EN
X-WR-TIMEZONE:America/Chicago
X-WR-CALNAME:Upcoming Auctions
BEGIN:VEVENT
UID:147719
DTSTAMP:20250912T170000
DTSTART:20250912T170000
DTEND:20250922T160000
SUMMARY:Furniture\, Clocks & Decor Auction
LOCATION:5955 E 580 Rd.\, Catoosa\, OK 74015\, US
DESCRIPTION:Online auction from 09-12-2025 - 09-22-2025 Cash Out On 09-2
 3-2025  Pickup On 09-24-2025 from 9AM to 12 PM  Pickup tim
 e is exclusive and can not be rescheduled please bid accordi
 ngly.  Warehouse full of furniture treasures – tables\, be
 ds\, antiques\, clocks\, decor & more!
URL:https://www.mredsauction.com/auctions/detail/bw147719
SEQUENCE:1
END:VEVENT
END:VCALENDAR