BEGIN:VCALENDAR
VERSION:2.0
PRODID:-//ExpressionEngine Easy iCalendar plugin//NONSGML v2.0.0//EN
X-WR-TIMEZONE:America/Chicago
X-WR-CALNAME:Upcoming Auctions
BEGIN:VEVENT
UID:147711
DTSTAMP:20250924T160000
DTSTART:20250924T160000
DTEND:20251006T160000
SUMMARY:Hunters Iron\, Brass & More
LOCATION:5955 E 580 Rd\, Catoosa\, OK 74015\, US
DESCRIPTION:Donâ€™t miss this opportunity to bid on a wide selection ofÂ
  reloading supplies\, ammunition\, and assorted firearm access
 ories.Â  Pickup @ Mr. Ed's in Catoosa on 10-8-25\, 9am-12pm.
URL:https://www.mredsauction.com/auctions/detail/bw147711
SEQUENCE:1
END:VEVENT
END:VCALENDAR