BEGIN:VCALENDAR
VERSION:2.0
PRODID:-//ExpressionEngine Easy iCalendar plugin//NONSGML v2.0.0//EN
X-WR-TIMEZONE:America/Chicago
X-WR-CALNAME:Upcoming Auctions
BEGIN:VEVENT
UID:147627
DTSTAMP:20250904T170000
DTSTART:20250904T170000
DTEND:20250917T160000
SUMMARY:Child Nutrition Surplus - Claremore
LOCATION:318 E. 7th Street\, Claremore\, OK 74017\, US
DESCRIPTION:This Claremore auction features a selection of quality comme
 rcial kitchen equipment ready for your food service operatio
 n. Reminder: Pick-up is Friday\, September 19th\, 2025 9am-11a
 m only in Claremore! This pickup time is exclusive and can n
 ot be rescheduled please bid accordingly. 
URL:https://www.mredsauction.com/auctions/detail/bw147627
SEQUENCE:1
END:VEVENT
END:VCALENDAR