BEGIN:VCALENDAR
VERSION:2.0
PRODID:-//ExpressionEngine Easy iCalendar plugin//NONSGML v2.0.0//EN
X-WR-TIMEZONE:America/Chicago
X-WR-CALNAME:Upcoming Auctions
BEGIN:VEVENT
UID:147290
DTSTAMP:20250827T160000
DTSTART:20250827T160000
DTEND:20250903T160000
SUMMARY:Multi-Purpose Roll-Around Dumpsters Online Auction
LOCATION:{location}
DESCRIPTION:Online Auction â€“ Roll-Around Dumpsters â€“ Ready to Work! 
 This auction features a great selection of heavy-duty roll-a
 round dumpsters\, all equipped with lids and wheels for maxim
 um mobility and convenience. Every unit included is job-read
 y with solid floors and is in excellent overall condition â€
 ” no junk\, no guesswork. Weâ€™ve taken care to include only 
 dumpsters that are ready for immediate use. Â 
URL:https://www.mredsauction.com/auctions/detail/bw147290
SEQUENCE:1
END:VEVENT
END:VCALENDAR