BEGIN:VCALENDAR
VERSION:2.0
PRODID:-//ExpressionEngine Easy iCalendar plugin//NONSGML v2.0.0//EN
X-WR-TIMEZONE:America/Chicago
X-WR-CALNAME:Upcoming Auctions
BEGIN:VEVENT
UID:146307
DTSTAMP:20250818T170000
DTSTART:20250818T170000
DTEND:20250825T170000
SUMMARY:Bargain Barn & Beyond Auction
LOCATION:5955 E 580 Rd.\, Catoosa\, OK 74015\, US
DESCRIPTION:From everyday bargains to one-of-a-kind gems—the Bargain B
 arn & Beyond Auction is open for bidding!
URL:https://www.mredsauction.com/auctions/detail/bw146307
SEQUENCE:1
END:VEVENT
END:VCALENDAR