BEGIN:VCALENDAR
VERSION:2.0
PRODID:-//ExpressionEngine Easy iCalendar plugin//NONSGML v2.0.0//EN
X-WR-TIMEZONE:America/Chicago
X-WR-CALNAME:Upcoming Auctions
BEGIN:VEVENT
UID:146261
DTSTAMP:20250811T160000
DTSTART:20250811T160000
DTEND:20250818T160000
SUMMARY:Shipping Container Auction
LOCATION:5955 E 580 Rd.\, Catoosa\, OK 74015\, US
DESCRIPTION:Shipping Container Auction 
URL:https://www.mredsauction.com/auctions/detail/bw146261
SEQUENCE:1
END:VEVENT
END:VCALENDAR