BEGIN:VCALENDAR
VERSION:2.0
PRODID:-//ExpressionEngine Easy iCalendar plugin//NONSGML v2.0.0//EN
X-WR-TIMEZONE:America/Chicago
X-WR-CALNAME:Upcoming Auctions
BEGIN:VEVENT
UID:146055
DTSTAMP:20250808T160000
DTSTART:20250808T160000
DTEND:20250818T160000
SUMMARY:The Homestead Auction: Furniture\, Decor & More
LOCATION:5955 E 580 Rd.\, Catoosa\, OK 74015\, US
DESCRIPTION:The Homestead Auction features a wide variety of furniture\, 
 western decor\, belt buckles\, and collectibles. From modern p
 ieces to rustic charm\, this estate sale offers something for
  every style.
URL:https://www.mredsauction.com/auctions/detail/bw146055
SEQUENCE:1
END:VEVENT
END:VCALENDAR