BEGIN:VCALENDAR
VERSION:2.0
PRODID:-//ExpressionEngine Easy iCalendar plugin//NONSGML v2.0.0//EN
X-WR-TIMEZONE:America/Chicago
X-WR-CALNAME:Upcoming Auctions
BEGIN:VEVENT
UID:145566
DTSTAMP:20251004T100000
DTSTART:20251004T100000
DTEND:20251004T120000
SUMMARY:Trustee's Real Estate Auction
LOCATION:2744 W 103rd St. N\, Sperry\, OK 74073\, US
DESCRIPTION:Trustee's Real Estate Auction in Sperry\, OK. Preview Day for
  this auction will be on Friday - September 26th from 10 am 
 - 12 pm. Some personal property items will be auctioned foll
 owing the real estate such as a tractor\, implements\, primiti
 ve tools & more. 
URL:https://www.mredsauction.com/auctions/detail/bw145566
SEQUENCE:1
END:VEVENT
END:VCALENDAR