BEGIN:VCALENDAR
VERSION:2.0
PRODID:-//ExpressionEngine Easy iCalendar plugin//NONSGML v2.0.0//EN
X-WR-TIMEZONE:America/Chicago
X-WR-CALNAME:Upcoming Auctions
BEGIN:VEVENT
UID:145358
DTSTAMP:20250823T100000
DTSTART:20250823T100000
DTEND:20250823T130000
SUMMARY:Greenhouse Liquidation
LOCATION:601 W. 136th St. N\,\, Skiatook\, OK 74070\, US
DESCRIPTION:Greenhouse Liquidation Auction will be live but there are a 
 few items for absentee bidding now. 
URL:https://www.mredsauction.com/auctions/detail/bw145358
SEQUENCE:1
END:VEVENT
END:VCALENDAR