BEGIN:VCALENDAR
VERSION:2.0
PRODID:-//ExpressionEngine Easy iCalendar plugin//NONSGML v2.0.0//EN
X-WR-TIMEZONE:America/Chicago
X-WR-CALNAME:Upcoming Auctions
BEGIN:VEVENT
UID:145308
DTSTAMP:20250725T200000
DTSTART:20250725T200000
DTEND:20250730T160000
SUMMARY:Bixby Storage Unit Contents
LOCATION:13243 S. Mingo Rd\, Unit #146\, Bixby\, OK 74008\, US
DESCRIPTION:A household packed into a storage container — and it all m
 ust go!
URL:https://www.mredsauction.com/auctions/detail/bw145308
SEQUENCE:1
END:VEVENT
END:VCALENDAR