BEGIN:VCALENDAR
VERSION:2.0
PRODID:-//ExpressionEngine Easy iCalendar plugin//NONSGML v2.0.0//EN
X-WR-TIMEZONE:America/Chicago
X-WR-CALNAME:Upcoming Auctions
BEGIN:VEVENT
UID:145096
DTSTAMP:20250723T160000
DTSTART:20250723T160000
DTEND:20250730T160000
SUMMARY:RS Prussia Porcelain & Vintage Brass Bell Auction
LOCATION:5955 E 580 Rd.\, Catoosa\, OK 74015\, US
DESCRIPTION:Discover elegant European porcelain and timeless brass bells
  in this curated collector’s sale.
URL:https://www.mredsauction.com/auctions/detail/bw145096
SEQUENCE:1
END:VEVENT
END:VCALENDAR