BEGIN:VCALENDAR
VERSION:2.0
PRODID:-//ExpressionEngine Easy iCalendar plugin//NONSGML v2.0.0//EN
X-WR-TIMEZONE:America/Chicago
X-WR-CALNAME:Upcoming Auctions
BEGIN:VEVENT
UID:144636
DTSTAMP:20250725T210000
DTSTART:20250725T210000
DTEND:20250806T160000
SUMMARY:Fishing\, Tactical & Outdoor Supply Auction
LOCATION:5955 E 580 Rd.\, Catoosa\, OK 74015\, US
DESCRIPTION:Sporting Goods for Everyone - Fishing poles\, reels\, lures\, t
 ackle boxes\, rifles\, pistols\, black powder\, reloading equipm
 ent and supplies and more!
URL:https://www.mredsauction.com/auctions/detail/bw144636
SEQUENCE:1
END:VEVENT
END:VCALENDAR