BEGIN:VCALENDAR
VERSION:2.0
PRODID:-//ExpressionEngine Easy iCalendar plugin//NONSGML v2.0.0//EN
X-WR-TIMEZONE:America/Chicago
X-WR-CALNAME:Upcoming Auctions
BEGIN:VEVENT
UID:143492
DTSTAMP:20250703T160000
DTSTART:20250703T160000
DTEND:20250714T160000
SUMMARY:Tools\, Décor\, Coins & Designer Finds Auction
LOCATION:13351 E 32nd St \, Tulsa\, OK 74134\, US
DESCRIPTION:Online Auction Featuring Tools\, Décor\, Coins & Designer Fin
 ds This diverse online auction includes quality tools\, styli
 sh home décor\, collectible coins\, designer handbags\, and mo
 re. From workshop essentials to unique statement pieces\, the
 re’s something for every bidder.
URL:https://www.mredsauction.com/auctions/detail/bw143492
SEQUENCE:1
END:VEVENT
END:VCALENDAR