BEGIN:VCALENDAR
VERSION:2.0
PRODID:-//ExpressionEngine Easy iCalendar plugin//NONSGML v2.0.0//EN
X-WR-TIMEZONE:America/Chicago
X-WR-CALNAME:Upcoming Auctions
BEGIN:VEVENT
UID:143106
DTSTAMP:20250626T160000
DTSTART:20250626T160000
DTEND:20250707T160000
SUMMARY:Tools\, Decor\, Vintage\, Art\, & More
LOCATION:{location}
DESCRIPTION:This online auction features over 200 lots of unique findsâ€
 ”including vintage toys\, collectible dishes\, sports memorabi
 lia\, military items\, camping gear\, and home furniture. Biddi
 ng ends July 7th\, so donâ€™t miss your chance to score a gre
 at deal! Â 
URL:https://www.mredsauction.com/auctions/detail/bw143106
SEQUENCE:1
END:VEVENT
END:VCALENDAR