BEGIN:VCALENDAR
VERSION:2.0
PRODID:-//ExpressionEngine Easy iCalendar plugin//NONSGML v2.0.0//EN
X-WR-TIMEZONE:America/Chicago
X-WR-CALNAME:Upcoming Auctions
BEGIN:VEVENT
UID:142372
DTSTAMP:20250709T100000
DTSTART:20250709T100000
DTEND:20250709T101500
SUMMARY:Guardian's Real Estate Auction in Tulsa
LOCATION:326 Young PL N\, Tulsa\, OK 74106\, US
DESCRIPTION:Guardian's Real Estate Auction in Tulsa\, OK. 
URL:https://www.mredsauction.com/auctions/detail/bw142372
SEQUENCE:1
END:VEVENT
END:VCALENDAR