BEGIN:VCALENDAR
VERSION:2.0
PRODID:-//ExpressionEngine Easy iCalendar plugin//NONSGML v2.0.0//EN
X-WR-TIMEZONE:America/Chicago
X-WR-CALNAME:Upcoming Auctions
BEGIN:VEVENT
UID:142123
DTSTAMP:20250712T100000
DTSTART:20250712T100000
DTEND:20250712T140000
SUMMARY:ONG & Estate Auto Auction
LOCATION:5955 E 580 Rd.\, Catoosa\, OK 74015\, US
DESCRIPTION:Join us for a LIVE ONG & Estate Auto Auction
URL:https://www.mredsauction.com/auctions/detail/bw142123
SEQUENCE:1
END:VEVENT
END:VCALENDAR