BEGIN:VCALENDAR
VERSION:2.0
PRODID:-//ExpressionEngine Easy iCalendar plugin//NONSGML v2.0.0//EN
X-WR-TIMEZONE:America/Chicago
X-WR-CALNAME:Upcoming Auctions
BEGIN:VEVENT
UID:141980
DTSTAMP:20250605T160000
DTSTART:20250605T160000
DTEND:20250611T160000
SUMMARY:Retro Comic Book Collection
LOCATION:{location}
DESCRIPTION:Retro comic Book Collection
URL:https://www.mredsauction.com/auctions/detail/bw141980
SEQUENCE:1
END:VEVENT
END:VCALENDAR