BEGIN:VCALENDAR
VERSION:2.0
PRODID:-//ExpressionEngine Easy iCalendar plugin//NONSGML v2.0.0//EN
X-WR-TIMEZONE:America/Chicago
X-WR-CALNAME:Upcoming Auctions
BEGIN:VEVENT
UID:141896
DTSTAMP:20250523T090000
DTSTART:20250523T090000
DTEND:20250621T100000
SUMMARY:Farm Equipment Auction
LOCATION:4622 S 193rd E Ave\, Broken Arrow\, OK 74014\, US
DESCRIPTION:Farm Equipment Auction 
URL:https://www.mredsauction.com/auctions/detail/bw141896
SEQUENCE:1
END:VEVENT
END:VCALENDAR