BEGIN:VCALENDAR
VERSION:2.0
PRODID:-//ExpressionEngine Easy iCalendar plugin//NONSGML v2.0.0//EN
X-WR-TIMEZONE:America/Chicago
X-WR-CALNAME:Upcoming Auctions
BEGIN:VEVENT
UID:141892
DTSTAMP:20250530T160000
DTSTART:20250530T160000
DTEND:20250609T160000
SUMMARY:Sperry Personal Property Auction
LOCATION:2744 W 103rd St. N\, Sperry\, OK 74073\, US
DESCRIPTION:Sperry Personal Property Auction
URL:https://www.mredsauction.com/auctions/detail/bw141892
SEQUENCE:1
END:VEVENT
END:VCALENDAR